BEGIN:VCALENDAR
VERSION:2.0
PRODID:-//masteryourten - ECPv6.15.20//NONSGML v1.0//EN
CALSCALE:GREGORIAN
METHOD:PUBLISH
X-ORIGINAL-URL:https://masteryourten.com
X-WR-CALDESC:Veranstaltungen für masteryourten
REFRESH-INTERVAL;VALUE=DURATION:PT1H
X-Robots-Tag:noindex
X-PUBLISHED-TTL:PT1H
BEGIN:VTIMEZONE
TZID:Europe/Berlin
BEGIN:DAYLIGHT
TZOFFSETFROM:+0100
TZOFFSETTO:+0200
TZNAME:CEST
DTSTART:20240331T010000
END:DAYLIGHT
BEGIN:STANDARD
TZOFFSETFROM:+0200
TZOFFSETTO:+0100
TZNAME:CET
DTSTART:20241027T010000
END:STANDARD
BEGIN:DAYLIGHT
TZOFFSETFROM:+0100
TZOFFSETTO:+0200
TZNAME:CEST
DTSTART:20250330T010000
END:DAYLIGHT
BEGIN:STANDARD
TZOFFSETFROM:+0200
TZOFFSETTO:+0100
TZNAME:CET
DTSTART:20251026T010000
END:STANDARD
BEGIN:DAYLIGHT
TZOFFSETFROM:+0100
TZOFFSETTO:+0200
TZNAME:CEST
DTSTART:20260329T010000
END:DAYLIGHT
BEGIN:STANDARD
TZOFFSETFROM:+0200
TZOFFSETTO:+0100
TZNAME:CET
DTSTART:20261025T010000
END:STANDARD
BEGIN:DAYLIGHT
TZOFFSETFROM:+0100
TZOFFSETTO:+0200
TZNAME:CEST
DTSTART:20270328T010000
END:DAYLIGHT
BEGIN:STANDARD
TZOFFSETFROM:+0200
TZOFFSETTO:+0100
TZNAME:CET
DTSTART:20271031T010000
END:STANDARD
END:VTIMEZONE
BEGIN:VEVENT
DTSTART;VALUE=DATE:20260215
DTEND;VALUE=DATE:20260216
DTSTAMP:20260424T175655
CREATED:20251109T214336Z
LAST-MODIFIED:20251109T214400Z
UID:10000489-1771113600-1771199999@masteryourten.com
SUMMARY:MY10 MASTERS 2025/26\, Magstadt 15.02.2026
DESCRIPTION:LG/LP: Startzeit = Start Wettkampf (50 Min./40 Schuss). Beginn Standbelegung & Probeschießen 30 bzw. 15 Minuten vor Startzeit.\nLG-Auflage: Startzeit = Start der Gesamtschießzeit (45 Min/30 Schuss). Standbelegung 15 Min. vorher. Auflageböcke sind selbst mitzubringen!
URL:https://masteryourten.com/event/my10-masters-2025-26-magstadt-15-02-2026/
LOCATION:SSGi Magstadt\, Rotsteinbruch\, Magstadt\, 71106\, Germany
CATEGORIES:MY10 MASTERS 2025/26
ATTACH;FMTTYPE=image/png:https://masteryourten.com/wp-content/uploads/2025/08/Produktbilder-2025-3.png
GEO:48.7436536;8.9500594
X-APPLE-STRUCTURED-LOCATION;VALUE=URI;X-ADDRESS=SSGi Magstadt Rotsteinbruch Magstadt 71106 Germany;X-APPLE-RADIUS=500;X-TITLE=Rotsteinbruch:geo:8.9500594,48.7436536
END:VEVENT
BEGIN:VEVENT
DTSTART;VALUE=DATE:20251118
DTEND;VALUE=DATE:20251119
DTSTAMP:20260424T175655
CREATED:20251012T223141Z
LAST-MODIFIED:20251012T223141Z
UID:10000394-1763424000-1763510399@masteryourten.com
SUMMARY:MY10 MASTERS 2025/26\, Magstadt 18.11.2025
DESCRIPTION:LG/LP: Startzeit = Start Wettkampf (50 Min./40 Schuss). Beginn Standbelegung & Probeschießen 30 bzw. 15 Minuten vor Startzeit.\nLG-Auflage: Startzeit = Start der Gesamtschießzeit (45 Min/30 Schuss). Standbelegung 15 Min. vorher. Auflageböcke sind selbst mitzubringen!
URL:https://masteryourten.com/event/my10-masters-2025-26-magstadt-18-11-2025-2/
LOCATION:SSGi Magstadt\, Rotsteinbruch\, Magstadt\, 71106\, Germany
CATEGORIES:MY10 MASTERS 2025/26
ATTACH;FMTTYPE=image/png:https://masteryourten.com/wp-content/uploads/2025/08/Produktbilder-2025-3.png
GEO:48.7436536;8.9500594
X-APPLE-STRUCTURED-LOCATION;VALUE=URI;X-ADDRESS=SSGi Magstadt Rotsteinbruch Magstadt 71106 Germany;X-APPLE-RADIUS=500;X-TITLE=Rotsteinbruch:geo:8.9500594,48.7436536
END:VEVENT
BEGIN:VEVENT
DTSTART;VALUE=DATE:20251014
DTEND;VALUE=DATE:20251015
DTSTAMP:20260424T175655
CREATED:20251017T072712Z
LAST-MODIFIED:20251017T072712Z
UID:10000444-1760400000-1760486399@masteryourten.com
SUMMARY:MY10 MASTERS 2025/26\, Magstadt 14.10.2025
DESCRIPTION:LG/LP: Startzeit = Start Wettkampf (50 Min./40 Schuss). Beginn Standbelegung & Probeschießen 30 bzw. 15 Minuten vor Startzeit.\nLG-Auflage: Startzeit = Start der Gesamtschießzeit (45 Min/30 Schuss). Standbelegung 15 Min. vorher. Auflageböcke sind selbst mitzubringen!
URL:https://masteryourten.com/event/my10-masters-2025-26-magstadt-14-10-2025/
LOCATION:SSGi Magstadt\, Rotsteinbruch\, Magstadt\, 71106\, Germany
CATEGORIES:MY10 MASTERS 2025/26
ATTACH;FMTTYPE=image/png:https://masteryourten.com/wp-content/uploads/2025/08/Produktbilder-2025-3.png
GEO:48.7436536;8.9500594
X-APPLE-STRUCTURED-LOCATION;VALUE=URI;X-ADDRESS=SSGi Magstadt Rotsteinbruch Magstadt 71106 Germany;X-APPLE-RADIUS=500;X-TITLE=Rotsteinbruch:geo:8.9500594,48.7436536
END:VEVENT
BEGIN:VEVENT
DTSTART;VALUE=DATE:20251014
DTEND;VALUE=DATE:20251015
DTSTAMP:20260424T175655
CREATED:20251012T222603Z
LAST-MODIFIED:20251015T162235Z
UID:10000393-1760400000-1760486399@masteryourten.com
SUMMARY:MY10 MASTERS 2025/26\, Magstadt 14.10.2025
DESCRIPTION:LG/LP: Startzeit = Start Wettkampf (50 Min./40 Schuss). Beginn Standbelegung & Probeschießen 30 bzw. 15 Minuten vor Startzeit.\nLG-Auflage: Startzeit = Start der Gesamtschießzeit (45 Min/30 Schuss). Standbelegung 15 Min. vorher. Auflageböcke sind selbst mitzubringen!
URL:https://masteryourten.com/event/my10-masters-2025-26-magstadt-14-10-2025-2/
LOCATION:SSGi Magstadt\, Rotsteinbruch\, Magstadt\, 71106\, Germany
CATEGORIES:MY10 MASTERS 2025/26
ATTACH;FMTTYPE=image/png:https://masteryourten.com/wp-content/uploads/2025/08/Produktbilder-2025-3.png
GEO:48.7436536;8.9500594
X-APPLE-STRUCTURED-LOCATION;VALUE=URI;X-ADDRESS=SSGi Magstadt Rotsteinbruch Magstadt 71106 Germany;X-APPLE-RADIUS=500;X-TITLE=Rotsteinbruch:geo:8.9500594,48.7436536
END:VEVENT
BEGIN:VEVENT
DTSTART;VALUE=DATE:20250215
DTEND;VALUE=DATE:20250216
DTSTAMP:20260424T175655
CREATED:20251012T223219Z
LAST-MODIFIED:20251012T223219Z
UID:10000395-1739577600-1739663999@masteryourten.com
SUMMARY:MY10 MASTERS 2025/26\, Magstadt 15.02.2025
DESCRIPTION:LG/LP: Startzeit = Start Wettkampf (50 Min./40 Schuss). Beginn Standbelegung & Probeschießen 30 bzw. 15 Minuten vor Startzeit.\nLG-Auflage: Startzeit = Start der Gesamtschießzeit (45 Min/30 Schuss). Standbelegung 15 Min. vorher. Auflageböcke sind selbst mitzubringen!
URL:https://masteryourten.com/event/my10-masters-2025-26-magstadt-15-02-2025/
LOCATION:SSGi Magstadt\, Rotsteinbruch\, Magstadt\, 71106\, Germany
CATEGORIES:MY10 MASTERS 2025/26
ATTACH;FMTTYPE=image/png:https://masteryourten.com/wp-content/uploads/2025/08/Produktbilder-2025-3.png
GEO:48.7436536;8.9500594
X-APPLE-STRUCTURED-LOCATION;VALUE=URI;X-ADDRESS=SSGi Magstadt Rotsteinbruch Magstadt 71106 Germany;X-APPLE-RADIUS=500;X-TITLE=Rotsteinbruch:geo:8.9500594,48.7436536
END:VEVENT
END:VCALENDAR