BEGIN:VCALENDAR
VERSION:2.0
PRODID:-//masteryourten - ECPv6.15.20//NONSGML v1.0//EN
CALSCALE:GREGORIAN
METHOD:PUBLISH
X-WR-CALNAME:masteryourten
X-ORIGINAL-URL:https://masteryourten.com
X-WR-CALDESC:Veranstaltungen für masteryourten
REFRESH-INTERVAL;VALUE=DURATION:PT1H
X-Robots-Tag:noindex
X-PUBLISHED-TTL:PT1H
BEGIN:VTIMEZONE
TZID:Europe/Berlin
BEGIN:DAYLIGHT
TZOFFSETFROM:+0100
TZOFFSETTO:+0200
TZNAME:CEST
DTSTART:20240331T010000
END:DAYLIGHT
BEGIN:STANDARD
TZOFFSETFROM:+0200
TZOFFSETTO:+0100
TZNAME:CET
DTSTART:20241027T010000
END:STANDARD
BEGIN:DAYLIGHT
TZOFFSETFROM:+0100
TZOFFSETTO:+0200
TZNAME:CEST
DTSTART:20250330T010000
END:DAYLIGHT
BEGIN:STANDARD
TZOFFSETFROM:+0200
TZOFFSETTO:+0100
TZNAME:CET
DTSTART:20251026T010000
END:STANDARD
BEGIN:DAYLIGHT
TZOFFSETFROM:+0100
TZOFFSETTO:+0200
TZNAME:CEST
DTSTART:20260329T010000
END:DAYLIGHT
BEGIN:STANDARD
TZOFFSETFROM:+0200
TZOFFSETTO:+0100
TZNAME:CET
DTSTART:20261025T010000
END:STANDARD
END:VTIMEZONE
BEGIN:VEVENT
DTSTART;VALUE=DATE:20251218
DTEND;VALUE=DATE:20251219
DTSTAMP:20260424T111105
CREATED:20251119T140009Z
LAST-MODIFIED:20251120T115735Z
UID:10000502-1766016000-1766102399@masteryourten.com
SUMMARY:MY10 MASTERS 2025/26\, Heitersheim 18.12.2025
DESCRIPTION:LG/LP: Startzeit = Start Wettkampf (50 Min./40 Schuss). Beginn Standbelegung & Probeschießen 30 bzw. 15 Minuten vor Startzeit.\nLG-Auflage: Startzeit = Start der Gesamtschießzeit (45 Min/30 Schuss). Standbelegung 15 Min. vorher. Auflageböcke (bodentiefe Ständer\, da keine Brüstung vorhanden!) sind selbst mitzubringen!
URL:https://masteryourten.com/event/my10-masters-2025-26-heitersheim-18-12-2025/
LOCATION:KKSV Heitersheim\, Badhausstr. 27\, Heitersheim\, 79423\, Germany
CATEGORIES:MY10 MASTERS 2025/26
ATTACH;FMTTYPE=image/png:https://masteryourten.com/wp-content/uploads/2025/08/Produktbilder-2025-3.png
GEO:47.8644546;7.6775078
X-APPLE-STRUCTURED-LOCATION;VALUE=URI;X-ADDRESS=KKSV Heitersheim Badhausstr. 27 Heitersheim 79423 Germany;X-APPLE-RADIUS=500;X-TITLE=Badhausstr. 27:geo:7.6775078,47.8644546
END:VEVENT
BEGIN:VEVENT
DTSTART;VALUE=DATE:20251216
DTEND;VALUE=DATE:20251217
DTSTAMP:20260424T111105
CREATED:20251119T135933Z
LAST-MODIFIED:20251120T115730Z
UID:10000501-1765843200-1765929599@masteryourten.com
SUMMARY:MY10 MASTERS 2025/26\, Heitersheim 16.12.2025
DESCRIPTION:LG/LP: Startzeit = Start Wettkampf (50 Min./40 Schuss). Beginn Standbelegung & Probeschießen 30 bzw. 15 Minuten vor Startzeit.\nLG-Auflage: Startzeit = Start der Gesamtschießzeit (45 Min/30 Schuss). Standbelegung 15 Min. vorher. Auflageböcke (bodentiefe Ständer\, da keine Brüstung vorhanden!) sind selbst mitzubringen!
URL:https://masteryourten.com/event/my10-masters-2025-26-heitersheim-16-12-2025/
LOCATION:KKSV Heitersheim\, Badhausstr. 27\, Heitersheim\, 79423\, Germany
CATEGORIES:MY10 MASTERS 2025/26
ATTACH;FMTTYPE=image/png:https://masteryourten.com/wp-content/uploads/2025/08/Produktbilder-2025-3.png
GEO:47.8644546;7.6775078
X-APPLE-STRUCTURED-LOCATION;VALUE=URI;X-ADDRESS=KKSV Heitersheim Badhausstr. 27 Heitersheim 79423 Germany;X-APPLE-RADIUS=500;X-TITLE=Badhausstr. 27:geo:7.6775078,47.8644546
END:VEVENT
BEGIN:VEVENT
DTSTART;VALUE=DATE:20251209
DTEND;VALUE=DATE:20251210
DTSTAMP:20260424T111105
CREATED:20251119T135837Z
LAST-MODIFIED:20251120T115726Z
UID:10000500-1765238400-1765324799@masteryourten.com
SUMMARY:MY10 MASTERS 2025/26\, Heitersheim 09.12.2025
DESCRIPTION:LG/LP: Startzeit = Start Wettkampf (50 Min./40 Schuss). Beginn Standbelegung & Probeschießen 30 bzw. 15 Minuten vor Startzeit.\nLG-Auflage: Startzeit = Start der Gesamtschießzeit (45 Min/30 Schuss). Standbelegung 15 Min. vorher. Auflageböcke (bodentiefe Ständer\, da keine Brüstung vorhanden!) sind selbst mitzubringen!
URL:https://masteryourten.com/event/my10-masters-2025-26-heitersheim-09-12-2025/
LOCATION:KKSV Heitersheim\, Badhausstr. 27\, Heitersheim\, 79423\, Germany
CATEGORIES:MY10 MASTERS 2025/26
ATTACH;FMTTYPE=image/png:https://masteryourten.com/wp-content/uploads/2025/08/Produktbilder-2025-3.png
GEO:47.8644546;7.6775078
X-APPLE-STRUCTURED-LOCATION;VALUE=URI;X-ADDRESS=KKSV Heitersheim Badhausstr. 27 Heitersheim 79423 Germany;X-APPLE-RADIUS=500;X-TITLE=Badhausstr. 27:geo:7.6775078,47.8644546
END:VEVENT
BEGIN:VEVENT
DTSTART;VALUE=DATE:20251125
DTEND;VALUE=DATE:20251126
DTSTAMP:20260424T111105
CREATED:20251119T135734Z
LAST-MODIFIED:20251120T115722Z
UID:10000499-1764028800-1764115199@masteryourten.com
SUMMARY:MY10 MASTERS 2025/26\, Heitersheim 25.11.2025
DESCRIPTION:LG/LP: Startzeit = Start Wettkampf (50 Min./40 Schuss). Beginn Standbelegung & Probeschießen 30 bzw. 15 Minuten vor Startzeit.\nLG-Auflage: Startzeit = Start der Gesamtschießzeit (45 Min/30 Schuss). Standbelegung 15 Min. vorher. Auflageböcke (bodentiefe Ständer\, da keine Brüstung vorhanden!) sind selbst mitzubringen!
URL:https://masteryourten.com/event/my10-masters-2025-26-heitersheim-25-11-2025/
LOCATION:KKSV Heitersheim\, Badhausstr. 27\, Heitersheim\, 79423\, Germany
CATEGORIES:MY10 MASTERS 2025/26
ATTACH;FMTTYPE=image/png:https://masteryourten.com/wp-content/uploads/2025/08/Produktbilder-2025-3.png
GEO:47.8644546;7.6775078
X-APPLE-STRUCTURED-LOCATION;VALUE=URI;X-ADDRESS=KKSV Heitersheim Badhausstr. 27 Heitersheim 79423 Germany;X-APPLE-RADIUS=500;X-TITLE=Badhausstr. 27:geo:7.6775078,47.8644546
END:VEVENT
BEGIN:VEVENT
DTSTART;VALUE=DATE:20251118
DTEND;VALUE=DATE:20251119
DTSTAMP:20260424T111105
CREATED:20251017T080716Z
LAST-MODIFIED:20251018T192241Z
UID:10000447-1763424000-1763510399@masteryourten.com
SUMMARY:MY10 MASTERS 2025/26\, Heitersheim 18.11.2025
DESCRIPTION:LG/LP: Startzeit = Start Wettkampf (50 Min./40 Schuss). Beginn Standbelegung & Probeschießen 30 bzw. 15 Minuten vor Startzeit.\nLG-Auflage: Startzeit = Start der Gesamtschießzeit (45 Min/30 Schuss). Standbelegung 15 Min. vorher. Auflageböcke (bodentiefe Ständer\, da keine Brüstung vorhanden!) sind selbst mitzubringen!
URL:https://masteryourten.com/event/my10-masters-2025-26-heitersheim-18-11-2025/
LOCATION:KKSV Heitersheim\, Badhausstr. 27\, Heitersheim\, 79423\, Germany
CATEGORIES:MY10 MASTERS 2025/26
ATTACH;FMTTYPE=image/png:https://masteryourten.com/wp-content/uploads/2025/08/Produktbilder-2025-3.png
GEO:47.8644546;7.6775078
X-APPLE-STRUCTURED-LOCATION;VALUE=URI;X-ADDRESS=KKSV Heitersheim Badhausstr. 27 Heitersheim 79423 Germany;X-APPLE-RADIUS=500;X-TITLE=Badhausstr. 27:geo:7.6775078,47.8644546
END:VEVENT
BEGIN:VEVENT
DTSTART;VALUE=DATE:20251108
DTEND;VALUE=DATE:20251109
DTSTAMP:20260424T111105
CREATED:20251017T080608Z
LAST-MODIFIED:20251018T192237Z
UID:10000446-1762560000-1762646399@masteryourten.com
SUMMARY:MY10 MASTERS 2025/26\, Heitersheim 08.11.2025
DESCRIPTION:LG/LP: Startzeit = Start Wettkampf (50 Min./40 Schuss). Beginn Standbelegung & Probeschießen 30 bzw. 15 Minuten vor Startzeit.\nLG-Auflage: Startzeit = Start der Gesamtschießzeit (45 Min/30 Schuss). Standbelegung 15 Min. vorher. Auflageböcke (bodentiefe Ständer\, da keine Brüstung vorhanden!) sind selbst mitzubringen!
URL:https://masteryourten.com/event/my10-masters-2025-26-heitersheim-08-11-2025/
LOCATION:KKSV Heitersheim\, Badhausstr. 27\, Heitersheim\, 79423\, Germany
CATEGORIES:MY10 MASTERS 2025/26
ATTACH;FMTTYPE=image/png:https://masteryourten.com/wp-content/uploads/2025/08/Produktbilder-2025-3.png
GEO:47.8644546;7.6775078
X-APPLE-STRUCTURED-LOCATION;VALUE=URI;X-ADDRESS=KKSV Heitersheim Badhausstr. 27 Heitersheim 79423 Germany;X-APPLE-RADIUS=500;X-TITLE=Badhausstr. 27:geo:7.6775078,47.8644546
END:VEVENT
BEGIN:VEVENT
DTSTART;VALUE=DATE:20251104
DTEND;VALUE=DATE:20251105
DTSTAMP:20260424T111105
CREATED:20251103T221213Z
LAST-MODIFIED:20251103T222148Z
UID:10000486-1762214400-1762300799@masteryourten.com
SUMMARY:MY10 MASTERS 2025/26\, Heitersheim 04.11.2025
DESCRIPTION:LG/LP: Startzeit = Start Wettkampf (50 Min./40 Schuss). Beginn Standbelegung & Probeschießen 30 bzw. 15 Minuten vor Startzeit.\nLG-Auflage: Startzeit = Start der Gesamtschießzeit (45 Min/30 Schuss). Standbelegung 15 Min. vorher. Auflageböcke sind selbst mitzubringen!
URL:https://masteryourten.com/event/my10-masters-2025-26-heitersheim-04-11-2025-2/
LOCATION:KKSV Heitersheim\, Badhausstr. 27\, Heitersheim\, 79423\, Germany
CATEGORIES:MY10 MASTERS 2025/26
ATTACH;FMTTYPE=image/png:https://masteryourten.com/wp-content/uploads/2025/08/Produktbilder-2025-3.png
GEO:47.8644546;7.6775078
X-APPLE-STRUCTURED-LOCATION;VALUE=URI;X-ADDRESS=KKSV Heitersheim Badhausstr. 27 Heitersheim 79423 Germany;X-APPLE-RADIUS=500;X-TITLE=Badhausstr. 27:geo:7.6775078,47.8644546
END:VEVENT
BEGIN:VEVENT
DTSTART;VALUE=DATE:20251021
DTEND;VALUE=DATE:20251022
DTSTAMP:20260424T111105
CREATED:20250926T181102Z
LAST-MODIFIED:20251018T192225Z
UID:10000357-1761004800-1761091199@masteryourten.com
SUMMARY:MY10 MASTERS 2025/26\, Heitersheim 21.10.2025
DESCRIPTION:LG/LP: Startzeit = Start Wettkampf (50 Min./40 Schuss). Beginn Standbelegung & Probeschießen 30 bzw. 15 Minuten vor Startzeit.\nLG-Auflage: Startzeit = Start der Gesamtschießzeit (45 Min/30 Schuss). Standbelegung 15 Min. vorher. Auflageböcke (bodentiefe Ständer\, da keine Brüstung vorhanden!) sind selbst mitzubringen!
URL:https://masteryourten.com/event/my10-masters-2025-26-heitersheim-21-10-2025/
LOCATION:KKSV Heitersheim\, Badhausstr. 27\, Heitersheim\, 79423\, Germany
CATEGORIES:MY10 MASTERS 2025/26
ATTACH;FMTTYPE=image/png:https://masteryourten.com/wp-content/uploads/2025/08/Produktbilder-2025-3.png
GEO:47.8644546;7.6775078
X-APPLE-STRUCTURED-LOCATION;VALUE=URI;X-ADDRESS=KKSV Heitersheim Badhausstr. 27 Heitersheim 79423 Germany;X-APPLE-RADIUS=500;X-TITLE=Badhausstr. 27:geo:7.6775078,47.8644546
END:VEVENT
BEGIN:VEVENT
DTSTART;VALUE=DATE:20251014
DTEND;VALUE=DATE:20251015
DTSTAMP:20260424T111105
CREATED:20250926T180850Z
LAST-MODIFIED:20251017T072520Z
UID:10000355-1760400000-1760486399@masteryourten.com
SUMMARY:MY10 MASTERS 2025/26\, Heitersheim 14.10.2025
DESCRIPTION:LG/LP: Startzeit = Start Wettkampf (50 Min./40 Schuss). Beginn Standbelegung & Probeschießen 30 bzw. 15 Minuten vor Startzeit.\nLG-Auflage: Startzeit = Start der Gesamtschießzeit (45 Min/30 Schuss). Standbelegung 15 Min. vorher. Auflageböcke sind selbst mitzubringen!
URL:https://masteryourten.com/event/my10-masters-2025-26-heitersheim-14-10-2025/
LOCATION:KKSV Heitersheim\, Badhausstr. 27\, Heitersheim\, 79423\, Germany
CATEGORIES:MY10 MASTERS 2025/26
ATTACH;FMTTYPE=image/png:https://masteryourten.com/wp-content/uploads/2025/08/Produktbilder-2025-3.png
GEO:47.8644546;7.6775078
X-APPLE-STRUCTURED-LOCATION;VALUE=URI;X-ADDRESS=KKSV Heitersheim Badhausstr. 27 Heitersheim 79423 Germany;X-APPLE-RADIUS=500;X-TITLE=Badhausstr. 27:geo:7.6775078,47.8644546
END:VEVENT
END:VCALENDAR